BEGIN:VCALENDAR
VERSION:2.0
PRODID:-//PETLA-ohjelma - ECPv6.8.3//NONSGML v1.0//EN
CALSCALE:GREGORIAN
METHOD:PUBLISH
X-ORIGINAL-URL:https://petla.fi
X-WR-CALDESC:Tapahtumat PETLA-ohjelma
REFRESH-INTERVAL;VALUE=DURATION:PT1H
X-Robots-Tag:noindex
X-PUBLISHED-TTL:PT1H
BEGIN:VTIMEZONE
TZID:Europe/Helsinki
BEGIN:DAYLIGHT
TZOFFSETFROM:+0200
TZOFFSETTO:+0300
TZNAME:EEST
DTSTART:20160327T010000
END:DAYLIGHT
BEGIN:STANDARD
TZOFFSETFROM:+0300
TZOFFSETTO:+0200
TZNAME:EET
DTSTART:20161030T010000
END:STANDARD
END:VTIMEZONE
BEGIN:VEVENT
DTSTART;TZID=Europe/Helsinki:20160819T100000
DTEND;TZID=Europe/Helsinki:20160819T150000
DTSTAMP:20260424T100710
CREATED:20160707T133200Z
LAST-MODIFIED:20190319T113120Z
UID:468-1471600800-1471618800@petla.fi
SUMMARY:Perunantuottajan Peltopäivä
DESCRIPTION:Perunantuotannon ammattilaistapahtuma järjestetään tällä kertaa lähellä Uudenkaarlepyyn keskustaa. Näyttelyssä on pienseminaari\, lajikekenttä\, viljelykokeita sekä mukana peruna-alan osaajia joka lähtöön. Tilaisuuteen on syytä lähteä koko perheen voimin\, sillä samaan aikaan vieressä on käynnissä Juthbackan markkinat. \nOpastus tapahtumapaikalle osoitteesta Alajepuantie 73 Uusikaarlepyy. \n\nTapahtuman aikataulu \n10.00 Näyttely alkaa\n11.30 – 13.00 Lounas tarjolla\n13.15 – 14.00 Miniseminaari\n15.00 Tilaisuus päättyy \n\n  \nTapahtuman järjestämiseen on saatu rahoitusta maa- ja metsätalousministeriöltä osana perunan menekinedistämishanketta. \n \n\n 
URL:https://petla.fi/tapahtumat/perunantuottajan-peltopaiva/
LOCATION:Uusikaarlepyy\, Alajepuantie 73\, Uusikaarlepyy\, 66900\, Suomi
CATEGORIES:Viljelijätilaisuus
END:VEVENT
END:VCALENDAR