BEGIN:VCALENDAR
VERSION:2.0
PRODID:-//PETLA-ohjelma - ECPv6.8.3//NONSGML v1.0//EN
CALSCALE:GREGORIAN
METHOD:PUBLISH
X-WR-CALNAME:PETLA-ohjelma
X-ORIGINAL-URL:https://petla.fi
X-WR-CALDESC:Tapahtumat PETLA-ohjelma
REFRESH-INTERVAL;VALUE=DURATION:PT1H
X-Robots-Tag:noindex
X-PUBLISHED-TTL:PT1H
BEGIN:VTIMEZONE
TZID:Europe/Helsinki
BEGIN:DAYLIGHT
TZOFFSETFROM:+0200
TZOFFSETTO:+0300
TZNAME:EEST
DTSTART:20190331T010000
END:DAYLIGHT
BEGIN:STANDARD
TZOFFSETFROM:+0300
TZOFFSETTO:+0200
TZNAME:EET
DTSTART:20191027T010000
END:STANDARD
BEGIN:DAYLIGHT
TZOFFSETFROM:+0200
TZOFFSETTO:+0300
TZNAME:EEST
DTSTART:20200329T010000
END:DAYLIGHT
BEGIN:STANDARD
TZOFFSETFROM:+0300
TZOFFSETTO:+0200
TZNAME:EET
DTSTART:20201025T010000
END:STANDARD
END:VTIMEZONE
BEGIN:VEVENT
DTSTART;TZID=Europe/Helsinki:20190219T093000
DTEND;TZID=Europe/Helsinki:20190219T120000
DTSTAMP:20260424T154641
CREATED:20190208T131517Z
LAST-MODIFIED:20190215T085234Z
UID:1131-1550568600-1550577600@petla.fi
SUMMARY:Luomukoulutuksen avoin aloitustilaisuus Seinäjoki
DESCRIPTION:Koulutuksella osaamista luomukasvistuotantoon -hanke järjestää luomuperunan ja luomuavomaanvihannesten viljelykoulutusta vuoden 2019 aikana. Maksuttomissa aloitustilaisuuksissa kerrotaan koulutuksista\, luomukasvisten viljelystä sekä luomukasviksia jalostavan teollisuuden ja kaupan tarpeista. Osallistuminen aloitustilaisuuteen ei millään tavalla sido osallistumaan koulutuksiin. \n  \nAloitustilaisuudet\nEtelä-Pohjanmaa: tiistai 19.2.2019 klo 9.30-12.00\, Hotelli Sorsanpesä\, Törnäväntie 27\, Seinäjoki \nVarsinais-Suomi: tiistai 26.2.2019 klo 9.30-12.00\, Tiedekeskus Tuorla\, Väisäläntie 20\, Piikkiö \nSatakunta: keskiviikko 27.2.2019 klo 9.30-12.00\, Pyhäjärvi-instituutti\, Sepäntie 7\, Eura \nOhjelma Seinäjoella: \n9.30 Kahvi\n10.00  Koulutusten esittely\, Marjo Serenius\, Petla\n10.25  Miksi lisää luomua ja kestävämpiä viljelymenetelmiä? \n\nMinna Nurro\, Pro Luomu ry\nKimmo Pusa\, Finnamyl Oy\nMatti Perttu\, Apetit Ruoka Oy\nJepuan Peruna Oy\n\n11.45 Loppukeskustelu: Mitä koulutuksilta odotetaan? \nLisätietoa koulutuksista hankkeen sivulta: \npyhajarvi-instituutti.fi/koulu \nIlmoittaudu aloitustilaisuuteen tai koulutuksiin viimeistään viikkoa ennen tilaisuutta toimisto@pji.fi tai 044 034 4054.\nKerrothan samalla nimesi\, sähköpostiosoitteesi\, paikkakunnan\, ammatin ja mitä viljelet/aiot viljellä. \n  \nKoulutuksiin ovat tervetulleita jo luomussa olevat\, luomuun siirtyvät sekä tavanomaisesti tuotettujen avomaanvihannesten ja perunan viljelijät\, jotka ovat kiinnostuneita soveltamaan luomussa hyväksi havaittuja toimenpiteitä. Koulutukset toteutetaan Varsinais-Suomessa\, Satakunnassa ja Etelä-Pohjanmaalla vuoden 2019 aikana.  Koulutuksesta vastaavat yhteistyössä Pyhäjärvi-instituutti\, Luonnonvarakeskus ja Perunantutkimuslaitos. \n  \nKoulutukset alkavat pian\nKoulutuspakettiin kuuluu kahdeksan puolen päivän koulutusta eri teemoista.\nKoulutusten pääsisällöt: \n\nKoulutus 1: Viljelykierto\, ravinnetalous ja maan kasvukunto\nKoulutus 2: Viljelyn suunnittelu ja tarvittavat tuotantopanokset\nKoulutus 3: Viljelyn talous ja suunnittelu\nKoulutus 4: Viljelytoimenpiteet kasvukaudella sadon määrän ja laadun varmistamiseksi\nKoulutus 5: Kasvukauden viljelytoimenpiteet käytännössä\nKoulutus 6: Sadonkorjuu\, varastointi ja kauppakunnostus\nKoulutus 7: Luomukasvisten kysyntä ja markkinointikanavat\nKoulutus 8: Luomukasvisseminaari\n\nKunkin koulutuksen kesto on noin puoli päivää. \n  \nKoulutukset 1 ja 2 järjestetään samana päivänä:\n \nVarsinais-Suomi: tiistai 5.3.2019 klo 9.00-17.00\, Piikkiö. \nSatakunta: tiistai 12.3.2019 klo 9.00-17.00\, SASKY Kokemäen yksikkö\, Kauvatsantie 189\, Kokemäki. \nEtelä-Pohjanmaa: tiistai 19.3.2019 klo 9.00-17.00\, Ilmajoki. \nKoulutus 3\, päivä ja paikka vahvistetaan myöhemmin: \nVarsinais-Suomi: viikolla 14\nSatakunta: viikolla 15\nEtelä-Pohjanmaa: viikolla 15 \nLoput koulutusajankohdat vahvistetaan myöhemmin. \n  \nKoulutuksen hinta\nKoulutuskokonaisuuden hinta on 200 €/osallistuja (koulutus on arvonlisäveroton) sisältäen opetuksen (vuoden 2019 koulutukset 1-8 kertaa) ja materiaalin. Koulutuksia esittelevät aloitustilaisuudet ovat maksuttomia ja kaikille ilmoittautuneille avoimia. \n  \nTietoa viljelykoulutuksista (pdf) \n  \n   \n          
URL:https://petla.fi/tapahtumat/luomukoulutuksen-aloitustilaisuus-seinajoki/
LOCATION:Hotelli Sorsanpesä\, Törnäväntie 27\, Seinäjoki
CATEGORIES:Koulutustilaisuus
END:VEVENT
BEGIN:VEVENT
DTSTART;TZID=Europe/Helsinki:20190226T093000
DTEND;TZID=Europe/Helsinki:20190226T120000
DTSTAMP:20260424T154641
CREATED:20190208T133343Z
LAST-MODIFIED:20190222T072016Z
UID:1153-1551173400-1551182400@petla.fi
SUMMARY:Luomukoulutuksen avoin aloitustilaisuus Piikkiö
DESCRIPTION:Koulutuksella osaamista luomukasvistuotantoon -hanke järjestää luomuperunan ja luomuavomaanvihannesten viljelykoulutusta vuoden 2019 aikana. Maksuttomissa aloitustilaisuuksissa kerrotaan koulutuksista\, luomukasvisten viljelystä sekä luomukasviksia jalostavan teollisuuden ja kaupan tarpeista. Osallistuminen aloitustilaisuuteen ei millään tavalla sido osallistumaan koulutuksiin. \n  \nAloitustilaisuudet\nEtelä-Pohjanmaa: tiistai 19.2.2019 klo 9.30-12.00\, Hotelli Sorsanpesä\, Törnäväntie 27\, Seinäjoki \nVarsinais-Suomi: tiistai 26.2.2019 klo 9.30-12.00\, Tiedekeskus Tuorla\, Väisäläntie 20\, Piikkiö \nSatakunta: keskiviikko 27.2.2019 klo 9.30-12.00\, Pyhäjärvi-instituutti\, Sepäntie 7\, Eura \nOhjelma: \n9.30 Kahvi\n10.00 Koulutusten esittely\, Sauli Jaakkola\, Pyhäjärvi-instituutti\n10.25 Miksi lisää luomua ja kestävämpiä viljelymenetelmiä? \n\nSari Autio\, Luomuinstituutti\nAnne Rahkonen\, Luonnonvarakes\nTimo Mäki\, Apetit Ruoka Oy\n\n11.45 Loppukeskustelu: Mitä koulutuksilta odotetaan? \nLisätietoa koulutuksista hankkeen sivulta: \npyhajarvi-instituutti.fi/koulu \nIlmoittaudu aloitustilaisuuteen tai koulutuksiin viimeistään viikkoa ennen tilaisuutta toimisto@pji.fi tai 044 034 4054.\nKerrothan samalla nimesi\, sähköpostiosoitteesi\, paikkakunnan\, ammatin ja mitä viljelet/aiot viljellä. \n  \nKoulutuksiin ovat tervetulleita jo luomussa olevat\, luomuun siirtyvät sekä tavanomaisesti tuotettujen avomaanvihannesten ja perunan viljelijät\, jotka ovat kiinnostuneita soveltamaan luomussa hyväksi havaittuja toimenpiteitä. Koulutukset toteutetaan Varsinais-Suomessa\, Satakunnassa ja Etelä-Pohjanmaalla vuoden 2019 aikana. Koulutuksesta vastaavat yhteistyössä Pyhäjärvi-instituutti\, Luonnonvarakeskus ja Perunantutkimuslaitos. \n  \nKoulutukset alkavat pian\nKoulutuspakettiin kuuluu kahdeksan puolen päivän koulutusta eri teemoista.\nKoulutusten pääsisällöt: \n\nKoulutus 1: Viljelykierto\, ravinnetalous ja maan kasvukunto\nKoulutus 2: Viljelyn suunnittelu ja tarvittavat tuotantopanokset\nKoulutus 3: Viljelyn talous ja suunnittelu\nKoulutus 4: Viljelytoimenpiteet kasvukaudella sadon määrän ja laadun varmistamiseksi\nKoulutus 5: Kasvukauden viljelytoimenpiteet käytännössä\nKoulutus 6: Sadonkorjuu\, varastointi ja kauppakunnostus\nKoulutus 7: Luomukasvisten kysyntä ja markkinointikanavat\nKoulutus 8: Luomukasvisseminaari\n\nKunkin koulutuksen kesto on noin puoli päivää. \n  \nKoulutukset 1 ja 2 järjestetään samana päivänä:\n \nVarsinais-Suomi: tiistai 5.3.2019 klo 9.00-17.00\, Piikkiö. \nSatakunta: tiistai 12.3.2019 klo 9.00-17.00\, SASKY Kokemäen yksikkö\, Kauvatsantie 189\, Kokemäki. \nEtelä-Pohjanmaa: tiistai 19.3.2019 klo 9.00-17.00\, Ilmajoki. \nKoulutus 3\, päivä ja paikka vahvistetaan myöhemmin: \nVarsinais-Suomi: viikolla 14\nSatakunta: viikolla 15\nEtelä-Pohjanmaa: viikolla 15 \nLoput koulutusajankohdat vahvistetaan myöhemmin. \n  \nKoulutuksen hinta\nKoulutuskokonaisuuden hinta on 200 €/osallistuja (koulutus on arvonlisäveroton) sisältäen opetuksen (vuoden 2019 koulutukset 1-8 kertaa) ja materiaalin. Koulutuksia esittelevät aloitustilaisuudet ovat maksuttomia ja kaikille ilmoittautuneille avoimia. \n  \nTietoa viljelykoulutuksista (pdf) \n  \n  \n       
URL:https://petla.fi/tapahtumat/luomukoulutuksen-aloitustilaisuus-piikkio/
LOCATION:Tiedekeskus Tuorla\, Väisäläntie 20\, Piikkiö
CATEGORIES:Koulutustilaisuus
END:VEVENT
BEGIN:VEVENT
DTSTART;TZID=Europe/Helsinki:20190227T093000
DTEND;TZID=Europe/Helsinki:20190227T120000
DTSTAMP:20260424T154641
CREATED:20190208T133718Z
LAST-MODIFIED:20190319T110428Z
UID:1158-1551259800-1551268800@petla.fi
SUMMARY:Luomukoulutuksen avoin aloitustilaisuus Eura
DESCRIPTION:Koulutuksella osaamista luomukasvistuotantoon -hanke järjestää luomuperunan ja luomuavomaanvihannesten viljelykoulutusta vuoden 2019 aikana. Maksuttomissa aloitustilaisuuksissa kerrotaan koulutuksista\, luomukasvisten viljelystä sekä luomukasviksia jalostavan teollisuuden ja kaupan tarpeista. Osallistuminen aloitustilaisuuteen ei millään tavalla sido osallistumaan koulutuksiin. \n  \nAloitustilaisuudet\nEtelä-Pohjanmaa: tiistai 19.2.2019 klo 9.30-12.00\, Hotelli Sorsanpesä\, Törnäväntie 27\, Seinäjoki \nVarsinais-Suomi: tiistai 26.2.2019 klo 9.30-12.00\, Tiedekeskus Tuorla\, Väisäläntie 20\, Piikkiö \nSatakunta: keskiviikko 27.2.2019 klo 9.30-12.00\, Pyhäjärvi-instituutti\, Sepäntie 7\, Eura \nOhjelma: \n9.30 Kahvi\n10.00 Koulutusten esittely\, Sauli Jaakkola\, Pyhäjärvi-instituutti\n10.25 Miksi lisää luomua ja kestävämpiä viljelymenetelmiä? \n\nMinna Nurro\, Pro Luomu ry\nKimmo Pusa\, Finnamyl Oy\nTimo Kaila\, Apetit Ruoka Oy\nJussi Kaartinen\, Satakunnan Osuuskauppa\n\n11.45 Loppukeskustelu: Mitä koulutuksilta odotetaan? \nLisätietoa koulutuksista hankkeen sivulta: \npyhajarvi-instituutti.fi/koulu \nIlmoittaudu aloitustilaisuuteen tai koulutuksiin viimeistään viikkoa ennen tilaisuutta toimisto@pji.fi tai 044 034 4054.\nKerrothan samalla nimesi\, sähköpostiosoitteesi\, paikkakunnan\, ammatin ja mitä viljelet/aiot viljellä. \n  \nKoulutuksiin ovat tervetulleita jo luomussa olevat\, luomuun siirtyvät sekä tavanomaisesti tuotettujen avomaanvihannesten ja perunan viljelijät\, jotka ovat kiinnostuneita soveltamaan luomussa hyväksi havaittuja toimenpiteitä. Koulutukset toteutetaan Varsinais-Suomessa\, Satakunnassa ja Etelä-Pohjanmaalla vuoden 2019 aikana. Koulutuksesta vastaavat yhteistyössä Pyhäjärvi-instituutti\, Luonnonvarakeskus ja Perunantutkimuslaitos. \n  \nKoulutukset alkavat pian\nKoulutuspakettiin kuuluu kahdeksan puolen päivän koulutusta eri teemoista.\nKoulutusten pääsisällöt: \n\nKoulutus 1: Viljelykierto\, ravinnetalous ja maan kasvukunto\nKoulutus 2: Viljelyn suunnittelu ja tarvittavat tuotantopanokset\nKoulutus 3: Viljelyn talous ja suunnittelu\nKoulutus 4: Viljelytoimenpiteet kasvukaudella sadon määrän ja laadun varmistamiseksi\nKoulutus 5: Kasvukauden viljelytoimenpiteet käytännössä\nKoulutus 6: Sadonkorjuu\, varastointi ja kauppakunnostus\nKoulutus 7: Luomukasvisten kysyntä ja markkinointikanavat\nKoulutus 8: Luomukasvisseminaari\n\nKunkin koulutuksen kesto on noin puoli päivää. \n  \nKoulutukset 1 ja 2 järjestetään samana päivänä:\n \nVarsinais-Suomi: tiistai 5.3.2019 klo 9.00-17.00\, Piikkiö. \nSatakunta: tiistai 12.3.2019 klo 9.00-17.00\, SASKY Kokemäen yksikkö\, Kauvatsantie 189\, Kokemäki. \nEtelä-Pohjanmaa: tiistai 19.3.2019 klo 9.00-17.00\, Ilmajoki. \nKoulutus 3\, päivä ja paikka vahvistetaan myöhemmin: \nVarsinais-Suomi: viikolla 14\nSatakunta: viikolla 15\nEtelä-Pohjanmaa: viikolla 15 \nLoput koulutusajankohdat vahvistetaan myöhemmin. \n  \nKoulutuksen hinta\nKoulutuskokonaisuuden hinta on 200 €/osallistuja (koulutus on arvonlisäveroton) sisältäen opetuksen (vuoden 2019 koulutukset 1-8 kertaa) ja materiaalin. Koulutuksia esittelevät aloitustilaisuudet ovat maksuttomia ja kaikille ilmoittautuneille avoimia. \n  \nTietoa viljelykoulutuksista (pdf) \n  \n  \n       
URL:https://petla.fi/tapahtumat/luomukoulutuksen-aloitustilaisuus-eura/
LOCATION:Pyhäjärvi-instituutti\, Sepäntie 7\, Eura
CATEGORIES:Koulutustilaisuus
END:VEVENT
BEGIN:VEVENT
DTSTART;TZID=Europe/Helsinki:20190821T110000
DTEND;TZID=Europe/Helsinki:20190821T150000
DTSTAMP:20260424T154641
CREATED:20190612T105904Z
LAST-MODIFIED:20190620T115652Z
UID:1485-1566385200-1566399600@petla.fi
SUMMARY:Peltopäivä Jepua
DESCRIPTION:Jepuan Peruna järjestää perinteiseen tapaan perunanpäivän lajiketeemalla. JEPO:n tuotantolaitoksen vieressä olevalla lajikekentällä viljellään tänä vuonna peräti 61 erilaista perunalajiketta. Päivän aikana on luvassa myös muuta mielenkiintoista peruna-aiheista ohjelmaa. \n \nTänä vuonna järjestetään myös miniseminaari ajankohtaisista asioista klo 11:30-12:30 \nLajiketalot esittelevät lajikkeitaan klo 13.00-14.00 \nJEPO tarjoaa makkaraa ja kahvia. \n  \nMyös Perunantutkimuslaitos on mukana peltopäivässä. \n 
URL:https://petla.fi/tapahtumat/peltopaiva-jepua-2019/
LOCATION:Jepuan Peruna\, Pensalantie 120\, Jepua
CATEGORIES:Viljelijätilaisuus
END:VEVENT
BEGIN:VEVENT
DTSTART;VALUE=DATE:20190822
DTEND;VALUE=DATE:20190823
DTSTAMP:20260424T154641
CREATED:20190612T110747Z
LAST-MODIFIED:20190807T131516Z
UID:1494-1566432000-1566518399@petla.fi
SUMMARY:Peltopäivä Dagsmark PERUTTU
DESCRIPTION:Dagsmarkin peltopäivä on peruttu. Halla tuhosi perunakasvustot elokuun alussa\, eikä pellolle jäänyt esiteltävää. \n\nDagsmarkin peltopäivässä on nähtävissä iso joukko perunalajikkeita\, Petlan toteuttama ruokaperunan lannoituskoe ja paljon muutakin peruna-asiaa. Tänä vuonna edustettuna on myös tärkkelysperunasektori. \n 
URL:https://petla.fi/tapahtumat/peltopaiva-dagsmark-2019/
END:VEVENT
BEGIN:VEVENT
DTSTART;TZID=Europe/Helsinki:20200205T093000
DTEND;TZID=Europe/Helsinki:20200205T163000
DTSTAMP:20260424T154641
CREATED:20200113T114919Z
LAST-MODIFIED:20200113T114919Z
UID:1596-1580895000-1580920200@petla.fi
SUMMARY:Kannattava ja kestävä kasvisviljely luomumenetelmin
DESCRIPTION:Mitä luomukasvisten viljelyssä vaaditaan ja mitä luomumenetelmiä voidaan hyödyntää tavanomaisessa tuotannossa? Mikä merkitys on toiminnan suunnittelulla viljelyn onnistumisen kannalta ammattimaisessa viljelyssä? Mitä tarjottavaa tutkimuksella on kemiallisten torjunta-aineiden tilalle? Minkälaisella strategialla luomuvihannesten viljelyn saa kannattavammaksi? \nVastauksia näihin ja moniin muihin kysymyksiin saadaan KOULU-hankkeen kaikille avoimessa kasvisseminaarissa. Tilaisuuden pääpuhujana on tanskalainen luomuvihannesviljelyneuvoja\, agronomi Richard de Visser\, joka antaa esityksessään tuoreita näkemyksiä ja käytännön oppeja sekä vinkkejä siitä\, kuinka parantaa vihannestuotantoa. Lisäksi tilaisuudessa on tutkijapuheenvuorot Lukesta ja Petlasta. \nTilaisuuden ohjelma ja ilmoittautuminen: \nhttps://www.lyyti.fi/reg/Kannattava_ja_kestava_kasvisviljely_luomumenetelmin_0552 \n  \nTilaisuus on osa Koulutuksella osaamista luomukasvistuotantoon -hanketta. Pyhäjärvi-instituutin koordinoima hanke toteutetaan yhteistyössä Luonnonvarakeskuksen ja Perunantutkimuslaitoksen kanssa ja päärahoituksensa se saa Manner-Suomen maaseudun kehittämisohjelmasta Satakunnan\, Varsinais-Suomen ja Etelä-Pohjanmaan ELY-keskusten kautta. \n  \n         
URL:https://petla.fi/tapahtumat/kannattava-ja-kestava-kasvisviljely-luomumenetelmin/
LOCATION:Teknologiakeskus Pripoli\, Tiedepuisto 4\, Pori\, Suomi
CATEGORIES:Seminaari
END:VEVENT
BEGIN:VEVENT
DTSTART;TZID=Europe/Helsinki:20200819T110000
DTEND;TZID=Europe/Helsinki:20200819T150000
DTSTAMP:20260424T154641
CREATED:20200706T105505Z
LAST-MODIFIED:20200811T055905Z
UID:1872-1597834800-1597849200@petla.fi
SUMMARY:PERUTTU Peltopäivä Jepua
DESCRIPTION:Vallitsevan koronatilanteen johdosta Jepuan peltopäivä on peruttu \n  \nJepuan Peruna järjestää elokuussa perinteiseen tapaan perunanpäivän lajiketeemalla. JEPO:n tuotantolaitoksen vieressä olevalla lajikekentällä on jälleen nähtävänä suuri joukko erilaisia perunalajikkeita. \nPäivän ohjelmassa mm. \n\nLajiketalojen ja muiden tekijöiden esittelyt\nAlan yrityksien näyttelyt\nJEPO tarjoa makkaraa ja kahvia
URL:https://petla.fi/tapahtumat/peltopaiva-jepua-2020/
LOCATION:Jepuan Peruna\, Pensalantie 120\, Jepua
CATEGORIES:Viljelijätilaisuus
END:VEVENT
END:VCALENDAR