BEGIN:VCALENDAR
VERSION:2.0
PRODID:-//PETLA-ohjelma - ECPv6.8.3//NONSGML v1.0//EN
CALSCALE:GREGORIAN
METHOD:PUBLISH
X-ORIGINAL-URL:https://petla.fi
X-WR-CALDESC:Tapahtumat PETLA-ohjelma
REFRESH-INTERVAL;VALUE=DURATION:PT1H
X-Robots-Tag:noindex
X-PUBLISHED-TTL:PT1H
BEGIN:VTIMEZONE
TZID:Europe/Helsinki
BEGIN:DAYLIGHT
TZOFFSETFROM:+0200
TZOFFSETTO:+0300
TZNAME:EEST
DTSTART:20180325T010000
END:DAYLIGHT
BEGIN:STANDARD
TZOFFSETFROM:+0300
TZOFFSETTO:+0200
TZNAME:EET
DTSTART:20181028T010000
END:STANDARD
END:VTIMEZONE
BEGIN:VEVENT
DTSTART;VALUE=DATE:20180130
DTEND;VALUE=DATE:20180201
DTSTAMP:20260425T055206
CREATED:20171023T062552Z
LAST-MODIFIED:20180104T151158Z
UID:820-1517270400-1517443199@petla.fi
SUMMARY:Perunatutkimuksen talvipäivät 2018
DESCRIPTION:Perunatutkimuksen talvipäivät järjestetään 30.-31.1.2018 Seinäjoella. \n  \nLisätietoa tapahtumasta ja ilmoittautumisohjeet Peruna-alan yhteistyöryhmän nettisivuilla: \nhttps://perunasta.fi/perunatutkimuksen-talvipaivat-2018/ \n  \nSamassa yhteydessä järjestetään myös PAYR ry:n vuosikokous \n  \n  \n 
URL:https://petla.fi/tapahtumat/perunatutkimuksen-talvipaivat-2018/
LOCATION:Cumulus City Seinäjoki\, Kauppakatu 10\, Seinäjoki\, 60100\, Suomi
END:VEVENT
END:VCALENDAR