BEGIN:VCALENDAR
VERSION:2.0
PRODID:-//PETLA-ohjelma - ECPv6.8.3//NONSGML v1.0//EN
CALSCALE:GREGORIAN
METHOD:PUBLISH
X-ORIGINAL-URL:https://petla.fi
X-WR-CALDESC:Tapahtumat PETLA-ohjelma
REFRESH-INTERVAL;VALUE=DURATION:PT1H
X-Robots-Tag:noindex
X-PUBLISHED-TTL:PT1H
BEGIN:VTIMEZONE
TZID:Europe/Helsinki
BEGIN:DAYLIGHT
TZOFFSETFROM:+0200
TZOFFSETTO:+0300
TZNAME:EEST
DTSTART:20170326T010000
END:DAYLIGHT
BEGIN:STANDARD
TZOFFSETFROM:+0300
TZOFFSETTO:+0200
TZNAME:EET
DTSTART:20171029T010000
END:STANDARD
END:VTIMEZONE
BEGIN:VEVENT
DTSTART;VALUE=DATE:20171213
DTEND;VALUE=DATE:20171215
DTSTAMP:20260425T071810
CREATED:20171127T093445Z
LAST-MODIFIED:20190322T070451Z
UID:840-1513123200-1513295999@petla.fi
SUMMARY:Tuota valkuaista -hankkeen valkuaisseminaarit Seinäjoki ja Jyväskylä
DESCRIPTION:Tuota valkuaista eli TUOVA-hanke järjestää joulukuussa kolme valkuaisseminaaria: \nke 13.12. klo 10-15\, Seinäjoki\, Elinkeinotalo\, Huhtalantie 2\, 60220 SEINÄJOKI \nke 13.12. klo 18-21\, Seinäjoki\, Ravintola Alma\, Ruukintie 4\, 60100 SEINÄJOKI \nto 14.12. klo 10-15\, Jyväskylä\, Ravintola Lutakon Leidi\, Schaumanin puistotie 2 A\, 40100 JYVÄSKYLÄ \n  \nHinta: päivätilaisuudet 50 e\, iltatilaisuus 20 e. Lisäksi tarjolla omakustanteinen lounas tai iltaruoka. \n  \nPÄIVÄOHJELMA\, Seinäjoki ja Jyväskylä: \n10:00 Tervetulosanat \n10:10 Kokemuksia valkuaiskasvien viljelystä – Tuottajien kertomaa\, Hannele Suvanto ja Merja Lähdesmäki\, Ruralia-instituutti \n10:30 Talouden näkökulma valkuaiskasvien viljelyyn\, Jarkko Niemi\, Luke \n10:50 Proteiinia perunasta\, Jussi Tuomisto\, Petla \n11:10 Härkäpavun viljely\, viljelijä Samuel Jussila \n11:40 Tuloksia TUOVAn koeruuduilta 2016-2017 \, Luke \n12:10 Lounas \n13:15 -15:00 Työpajat \n\nPaja : Luomun satoon varmuutta valkuaiskasviseoksilla Erkki Vihonen\, ProAgria Etelä-Pohjanmaa ja Markku Niskanen\, Luke\nPaja Viljelykiertoon öljykasveja ja hernettä? kasvinsuojelu ja viljelytekniikka\, Noora Laitila\, ProAgria Etelä-Pohjanmaa ja Merja Högnäsbacka\, Luke\nPaja Valkuaiskasveilla potkua ruokintaan\, Essi Tarsia\, ProAgria Etelä-Pohjanmaa ja Hannele Suvanto\, Ruralia-instituutti \, Kaisa Kuoppala Luke.\n\nPajassa käsitellään aihetta asiantuntijoiden ohjaamana ja keskustellaan myös paljon osallistujien kesken. Pajan aihetta lähestytään mahdollisimman käytännönläheisesti; mitä\, miten\, milloin\, miksi… \n  \nILTAOHJELMA\, Seinäjoki: \n18.00 Tervetuloa \n18.10 Härkäpavun viljely\, viljelijä Samuel Jussila \n18.40 Härkäpapu elintarviketuotannossa\, Åsa Alanko\, Domretor \n19.10 Talouden näkökulma valkuaiskasvien viljelyyn\, Jarkko Niemi\, Luke \n20:00 Ruoka. \n  \nIlmoittaudu 5.12. mennessä: koulutus.ep@proagria.fi tai ProAgrian Etelä-Pohjanmaan tapahtumakalenterissa: \nSeinäjoki päivätilaisuus \nSeinäjoki iltatilaisuus \nJyväskylä päivätilaisuus \n  \nTuota valkuaista -hankkeen tavoitteena on kehittää valkuaiskasvimarkkinoita\, proteiinipitoisten sivutuotevirtojen käyttötapoja ja käytännön viljelyn edellytyksiä valkuais- ja typpiomavaraisuutta parantaviksi. Petlan osuus hankkeessa käsittelee perunateollisuuden sivuvirroista saatavan proteiinin hyötykäyttöä. Hanke on saanut rahoitusta Manner-Suomen maaseuturahastosta. \n  \n \n  \n  \n 
URL:https://petla.fi/tapahtumat/tuota-valkuaista-hankkeen-valkuaisseminaarit-seinajoki-ja-jyvaskyla/
LOCATION:Seinäjoki
CATEGORIES:Seminaari
END:VEVENT
END:VCALENDAR