BEGIN:VCALENDAR
VERSION:2.0
PRODID:-//PETLA-ohjelma - ECPv6.8.3//NONSGML v1.0//EN
CALSCALE:GREGORIAN
METHOD:PUBLISH
X-WR-CALNAME:PETLA-ohjelma
X-ORIGINAL-URL:https://petla.fi
X-WR-CALDESC:Tapahtumat PETLA-ohjelma
REFRESH-INTERVAL;VALUE=DURATION:PT1H
X-Robots-Tag:noindex
X-PUBLISHED-TTL:PT1H
BEGIN:VTIMEZONE
TZID:Europe/Helsinki
BEGIN:DAYLIGHT
TZOFFSETFROM:+0200
TZOFFSETTO:+0300
TZNAME:EEST
DTSTART:20190331T010000
END:DAYLIGHT
BEGIN:STANDARD
TZOFFSETFROM:+0300
TZOFFSETTO:+0200
TZNAME:EET
DTSTART:20191027T010000
END:STANDARD
END:VTIMEZONE
BEGIN:VEVENT
DTSTART;VALUE=DATE:20190212
DTEND;VALUE=DATE:20190214
DTSTAMP:20260424T125613
CREATED:20180927T054939Z
LAST-MODIFIED:20180927T055654Z
UID:1071-1549929600-1550102399@petla.fi
SUMMARY:Perunatutkimuksen talvipäivät 2019
DESCRIPTION:Peruna-alan yhteistyöryhmä järjestää Perunatutkimuksen talvipäivät Hämeenlinnassa 12.-13.2.2019. \nTarkemmat tiedot tapahtumasta julkastaan Peruna-alan yhteistyöryhmän nettisivuilla. \nSamassa yhteydessä järjestetään myös PAYR ry:n vuosikokous \n  \n \n 
URL:https://petla.fi/tapahtumat/perunatutkimuksen-talvipaivat-2019/
LOCATION:Original Sokos Hotel Vaakuna Hämeenlinna\, Possentie 7\, Hämeenlinna\, 13200\, Suomi
CATEGORIES:Seminaari
END:VEVENT
END:VCALENDAR