BEGIN:VCALENDAR
VERSION:2.0
PRODID:-//PETLA-ohjelma - ECPv6.8.3//NONSGML v1.0//EN
CALSCALE:GREGORIAN
METHOD:PUBLISH
X-WR-CALNAME:PETLA-ohjelma
X-ORIGINAL-URL:https://petla.fi
X-WR-CALDESC:Tapahtumat PETLA-ohjelma
REFRESH-INTERVAL;VALUE=DURATION:PT1H
X-Robots-Tag:noindex
X-PUBLISHED-TTL:PT1H
BEGIN:VTIMEZONE
TZID:Europe/Helsinki
BEGIN:DAYLIGHT
TZOFFSETFROM:+0200
TZOFFSETTO:+0300
TZNAME:EEST
DTSTART:20180325T010000
END:DAYLIGHT
BEGIN:STANDARD
TZOFFSETFROM:+0300
TZOFFSETTO:+0200
TZNAME:EET
DTSTART:20181028T010000
END:STANDARD
END:VTIMEZONE
BEGIN:VEVENT
DTSTART;TZID=Europe/Helsinki:20180726T100000
DTEND;TZID=Europe/Helsinki:20180726T160000
DTSTAMP:20260424T223715
CREATED:20180228T073202Z
LAST-MODIFIED:20180723T135659Z
UID:887-1532599200-1532620800@petla.fi
SUMMARY:Pohjanmaan Peltopäivä 2018
DESCRIPTION:Tervetuloa Pohjanmaan Peltopäivään torstaina! Perunantutkimuslaitoksen ja Peruna-alan yhteistyöryhmän yhteisosasto on heti näyttelyportin tuntumassa\, joten meidät on helppo löytää. \nNäyttelykentällä ei ole tällä kertaa lainkaan perunaruutuja\, mutta päivän aikana on mahdollisuus käydä läheisellä koekentällä tutustumassa joihinkin Petlan ja Luken kenttäkokeisiin. Yhteiskuljetus kokeille lähtee klo 11 ja klo 13. \nKoekentän perunakokeet: \n\nPerunaruton torjuntakoe ja lajikkeiden rutonherkkyystestaus (ruttoa ei vielä havaittu)\nRikkakasvien torjuntakoe\nUusia ja vanhoja tärkkelysperunalajikkeita\nSiemenperäisen aminopyralidivioituksen testiruudut\n\nTietoiskujen peruna-aiheet: \n\nAjankohtaista perunan kasvinsuojelusta\, tutkija Anne Rahkonen\, Perunantutkimuslaitos (klo 10.30-11)\nPAYR on peruna-alan asialla\, yrittäjä ja PAYR hallituksen jäsen Timo Myllymäki\,\nMyllymäen Peruna Oy (klo 14-14.30)\n\nLinkki Pohjanmaan Peltopäivän näyttelyesitteeseen (pdf) \n\nPohjanmaan Peltopäivä on kesän 2018 kasvinviljelyn ykköstapahtuma. Peltopäivä järjestetään jo kolmatta kertaa Ylistarossa Luke Ylistaron ja Perunantutkimuslaitoksen alueella. \nTälläkin kertaa tapahtuman keskipisteessä ovat viljan\, erikoiskasvien ja perunan lajikkeet\, lannoitus ja kasvinsuojelu. Maan kasvukunto ja siitä huolehtiminen on myös huomioitu tapahtumassa. Tapahtumassa ovat esillä kauppa\, teollisuus\, tutkimus ja neuvonta. Näyttelyosastojen ja esittelyruutujen lisäksi ohjelmassa on tietoiskuja ja koeruutukierros virallisilla lajikekokeilla. Esittelytilaa on varattu myös koneosastoille. \nTapahtuma itsessään on ilmainen\, mutta parkkeeraus maksaa 5 e.\nOpastus parkkialueelle Vaasantieltä (tie 18). \n  \nLisätiedot: \nwww.pohjanmaanpeltopaiva.fi \n 
URL:https://petla.fi/tapahtumat/pohjanmaan-peltopaiva-2018/
LOCATION:Petla & Luke tutkimusasema\, Alapääntie 104\, Ylistaro\, 60400\, Suomi
CATEGORIES:Viljelijätilaisuus
ATTACH;FMTTYPE=image/png:https://petla.fi/wp-content/uploads/2018/02/pohjanmaan_peltopaiva_2018.png
END:VEVENT
END:VCALENDAR