BEGIN:VCALENDAR
VERSION:2.0
PRODID:-//PETLA-ohjelma - ECPv6.8.3//NONSGML v1.0//EN
CALSCALE:GREGORIAN
METHOD:PUBLISH
X-ORIGINAL-URL:https://petla.fi
X-WR-CALDESC:Tapahtumat PETLA-ohjelma
REFRESH-INTERVAL;VALUE=DURATION:PT1H
X-Robots-Tag:noindex
X-PUBLISHED-TTL:PT1H
BEGIN:VTIMEZONE
TZID:Europe/Helsinki
BEGIN:DAYLIGHT
TZOFFSETFROM:+0200
TZOFFSETTO:+0300
TZNAME:EEST
DTSTART:20170326T010000
END:DAYLIGHT
BEGIN:STANDARD
TZOFFSETFROM:+0300
TZOFFSETTO:+0200
TZNAME:EET
DTSTART:20171029T010000
END:STANDARD
END:VTIMEZONE
BEGIN:VEVENT
DTSTART;VALUE=DATE:20170817
DTEND;VALUE=DATE:20170818
DTSTAMP:20260425T143642
CREATED:20170509T074926Z
LAST-MODIFIED:20170509T075514Z
UID:756-1502928000-1503014399@petla.fi
SUMMARY:Potato Scandinavia 2017
DESCRIPTION:Kolmannen kerran järjestettävä pohjoismainen perunatapahtuma tällä kertaa Norjassa\, Gruen kunnassa lähellä Ruotsin rajaa. \nTiedotusta tapahtumasta nettisivuilla (myös englanniksi)\nhttp://potatoscandinavia.no/ \nja Facebookissa\nhttps://www.facebook.com/potatoscandinavianorge/ \n 
URL:https://petla.fi/tapahtumat/potato-scandinavia-2017/
LOCATION:Grinder Gård\, Grue\, Hedmark\, Norja
CATEGORIES:Ulkomainen tapahtuma
END:VEVENT
END:VCALENDAR