BEGIN:VCALENDAR
VERSION:2.0
PRODID:-//PETLA-ohjelma - ECPv6.8.3//NONSGML v1.0//EN
CALSCALE:GREGORIAN
METHOD:PUBLISH
X-ORIGINAL-URL:https://petla.fi
X-WR-CALDESC:Tapahtumat PETLA-ohjelma
REFRESH-INTERVAL;VALUE=DURATION:PT1H
X-Robots-Tag:noindex
X-PUBLISHED-TTL:PT1H
BEGIN:VTIMEZONE
TZID:Europe/Helsinki
BEGIN:DAYLIGHT
TZOFFSETFROM:+0200
TZOFFSETTO:+0300
TZNAME:EEST
DTSTART:20170326T010000
END:DAYLIGHT
BEGIN:STANDARD
TZOFFSETFROM:+0300
TZOFFSETTO:+0200
TZNAME:EET
DTSTART:20171029T010000
END:STANDARD
END:VTIMEZONE
BEGIN:VEVENT
DTSTART;VALUE=DATE:20170614
DTEND;VALUE=DATE:20170618
DTSTAMP:20260425T172431
CREATED:20170509T073323Z
LAST-MODIFIED:20170509T073501Z
UID:752-1497398400-1497743999@petla.fi
SUMMARY:Farmari 2017
DESCRIPTION:Farmari-näyttely järjestetään Seinäjoella kesäkuussa\, viikko ennen juhannusta. \n  \nPerinteiseen tapaan näyttely levittäytyy myös ympäröivään maakuntaan erilaisten vierailukohteiden muodossa. Yhtenä vierailukohteena on Myllymäen maatila / Myllymäen Peruna Oy Kauhajoella. Perunan lisäksi tilalla on viljelyssä siemenviljaa\, kevätrapsia\, saneerauskasvia\, suojavyöhykenurmea ja muita luonnonhoitopeltoja. Tilalla voi tutustua erilaisiin lämpimien varastojen rakennusratkaisuihin\, siemenperunapakkaamoon ja kasvinviljelyyn erikoistuneeseen maatilaan. Vierailupäivät: to-pe 15.–16.6. klo 10–14. \n 
URL:https://petla.fi/tapahtumat/farmari-2017/
LOCATION:Seinäjoki Areena\, Seinäjoki\, Etelä-Pohjanmaa\, Suomi
CATEGORIES:Viljelijätilaisuus
END:VEVENT
END:VCALENDAR