BEGIN:VCALENDAR
VERSION:2.0
PRODID:-//PETLA-ohjelma - ECPv6.8.3//NONSGML v1.0//EN
CALSCALE:GREGORIAN
METHOD:PUBLISH
X-ORIGINAL-URL:https://petla.fi
X-WR-CALDESC:Tapahtumat PETLA-ohjelma
REFRESH-INTERVAL;VALUE=DURATION:PT1H
X-Robots-Tag:noindex
X-PUBLISHED-TTL:PT1H
BEGIN:VTIMEZONE
TZID:Europe/Helsinki
BEGIN:DAYLIGHT
TZOFFSETFROM:+0200
TZOFFSETTO:+0300
TZNAME:EEST
DTSTART:20160327T010000
END:DAYLIGHT
BEGIN:STANDARD
TZOFFSETFROM:+0300
TZOFFSETTO:+0200
TZNAME:EET
DTSTART:20161030T010000
END:STANDARD
END:VTIMEZONE
BEGIN:VEVENT
DTSTART;TZID=Europe/Helsinki:20161125T120000
DTEND;TZID=Europe/Helsinki:20161125T160000
DTSTAMP:20260426T034308
CREATED:20161121T125629Z
LAST-MODIFIED:20200706T104304Z
UID:646-1480075200-1480089600@petla.fi
SUMMARY:Perunanviljelijöiden koulutustilaisuus Siilinjärvi
DESCRIPTION:ProAgria Pohjois-Savo järjestää 25.11. koulutustilaisuuden perunanviljelijöille. Koulutus järjestetään Hankkijan tiloissa Siilinjärven Toivalassa. Aiheena on mm. ajankohtaisia asioita perunan kasvinsuojelusta. \nTilaisuuden ohjelma: \nKutsu tapahtumaan (pdf) \nIlmoittautuminen 22.11. mennessä. \nLisätiedot ja ilmoittautumiset: Heikki Inkeroinen\nheikki.inkeroinen@proagria.fi\npuh. 0400 375 584 \n  \nPerunan menekinedistämishanke osallistuu tilaisuuden kustannuksien kattamiseen. Menekinedistämishanke on saanut rahoitusta maa- ja metsätalousministeriöltä. \n   
URL:https://petla.fi/tapahtumat/perunanviljelijoiden-koulutustilaisuus-siilinjarvi/
LOCATION:Hankkija\, Toivala\, Takojantie 3\, Toivala\, 70900\, Suomi
CATEGORIES:Koulutustilaisuus
END:VEVENT
END:VCALENDAR